BEGIN:VCALENDAR
VERSION:2.0
PRODID:-//Brady Township - ECPv6.15.20//NONSGML v1.0//EN
CALSCALE:GREGORIAN
METHOD:PUBLISH
X-WR-CALNAME:Brady Township
X-ORIGINAL-URL:https://bradytownship.com
X-WR-CALDESC:Events for Brady Township
REFRESH-INTERVAL;VALUE=DURATION:PT1H
X-Robots-Tag:noindex
X-PUBLISHED-TTL:PT1H
BEGIN:VTIMEZONE
TZID:America/New_York
BEGIN:DAYLIGHT
TZOFFSETFROM:-0500
TZOFFSETTO:-0400
TZNAME:EDT
DTSTART:20260308T070000
END:DAYLIGHT
BEGIN:STANDARD
TZOFFSETFROM:-0400
TZOFFSETTO:-0500
TZNAME:EST
DTSTART:20261101T060000
END:STANDARD
BEGIN:DAYLIGHT
TZOFFSETFROM:-0500
TZOFFSETTO:-0400
TZNAME:EDT
DTSTART:20270314T070000
END:DAYLIGHT
BEGIN:STANDARD
TZOFFSETFROM:-0400
TZOFFSETTO:-0500
TZNAME:EST
DTSTART:20271107T060000
END:STANDARD
BEGIN:DAYLIGHT
TZOFFSETFROM:-0500
TZOFFSETTO:-0400
TZNAME:EDT
DTSTART:20280312T070000
END:DAYLIGHT
BEGIN:STANDARD
TZOFFSETFROM:-0400
TZOFFSETTO:-0500
TZNAME:EST
DTSTART:20281105T060000
END:STANDARD
BEGIN:DAYLIGHT
TZOFFSETFROM:-0500
TZOFFSETTO:-0400
TZNAME:EDT
DTSTART:20290311T070000
END:DAYLIGHT
BEGIN:STANDARD
TZOFFSETFROM:-0400
TZOFFSETTO:-0500
TZNAME:EST
DTSTART:20291104T060000
END:STANDARD
BEGIN:DAYLIGHT
TZOFFSETFROM:-0500
TZOFFSETTO:-0400
TZNAME:EDT
DTSTART:20300310T070000
END:DAYLIGHT
BEGIN:STANDARD
TZOFFSETFROM:-0400
TZOFFSETTO:-0500
TZNAME:EST
DTSTART:20301103T060000
END:STANDARD
END:VTIMEZONE
BEGIN:VEVENT
DTSTART;VALUE=DATE:20270412
DTEND;VALUE=DATE:20270413
DTSTAMP:20260419T154923
CREATED:20260210T143733Z
LAST-MODIFIED:20260210T143733Z
UID:10000099-1807488000-1807574399@bradytownship.com
SUMMARY:Planning Committee Meeting 7:00  Supervisor Meeting 7:30
DESCRIPTION:
URL:https://bradytownship.com/event/planning-committee-meeting-700-supervisor-meeting-730/2027-04-12/
END:VEVENT
BEGIN:VEVENT
DTSTART;VALUE=DATE:20270510
DTEND;VALUE=DATE:20270511
DTSTAMP:20260419T154923
CREATED:20260210T143733Z
LAST-MODIFIED:20260210T143733Z
UID:10000100-1809907200-1809993599@bradytownship.com
SUMMARY:Planning Committee Meeting 7:00  Supervisor Meeting 7:30
DESCRIPTION:
URL:https://bradytownship.com/event/planning-committee-meeting-700-supervisor-meeting-730/2027-05-10/
END:VEVENT
BEGIN:VEVENT
DTSTART;VALUE=DATE:20270614
DTEND;VALUE=DATE:20270615
DTSTAMP:20260419T154923
CREATED:20260210T143733Z
LAST-MODIFIED:20260210T143733Z
UID:10000101-1812931200-1813017599@bradytownship.com
SUMMARY:Planning Committee Meeting 7:00  Supervisor Meeting 7:30
DESCRIPTION:
URL:https://bradytownship.com/event/planning-committee-meeting-700-supervisor-meeting-730/2027-06-14/
END:VEVENT
BEGIN:VEVENT
DTSTART;VALUE=DATE:20270712
DTEND;VALUE=DATE:20270713
DTSTAMP:20260419T154923
CREATED:20260210T143733Z
LAST-MODIFIED:20260210T143733Z
UID:10000102-1815350400-1815436799@bradytownship.com
SUMMARY:Planning Committee Meeting 7:00  Supervisor Meeting 7:30
DESCRIPTION:
URL:https://bradytownship.com/event/planning-committee-meeting-700-supervisor-meeting-730/2027-07-12/
END:VEVENT
BEGIN:VEVENT
DTSTART;VALUE=DATE:20270809
DTEND;VALUE=DATE:20270810
DTSTAMP:20260419T154923
CREATED:20260210T143733Z
LAST-MODIFIED:20260210T143733Z
UID:10000103-1817769600-1817855999@bradytownship.com
SUMMARY:Planning Committee Meeting 7:00  Supervisor Meeting 7:30
DESCRIPTION:
URL:https://bradytownship.com/event/planning-committee-meeting-700-supervisor-meeting-730/2027-08-09/
END:VEVENT
BEGIN:VEVENT
DTSTART;VALUE=DATE:20270913
DTEND;VALUE=DATE:20270914
DTSTAMP:20260419T154923
CREATED:20260210T143733Z
LAST-MODIFIED:20260210T143733Z
UID:10000104-1820793600-1820879999@bradytownship.com
SUMMARY:Planning Committee Meeting 7:00  Supervisor Meeting 7:30
DESCRIPTION:
URL:https://bradytownship.com/event/planning-committee-meeting-700-supervisor-meeting-730/2027-09-13/
END:VEVENT
BEGIN:VEVENT
DTSTART;VALUE=DATE:20271011
DTEND;VALUE=DATE:20271012
DTSTAMP:20260419T154923
CREATED:20260210T143733Z
LAST-MODIFIED:20260210T143733Z
UID:10000105-1823212800-1823299199@bradytownship.com
SUMMARY:Planning Committee Meeting 7:00  Supervisor Meeting 7:30
DESCRIPTION:
URL:https://bradytownship.com/event/planning-committee-meeting-700-supervisor-meeting-730/2027-10-11/
END:VEVENT
BEGIN:VEVENT
DTSTART;VALUE=DATE:20271108
DTEND;VALUE=DATE:20271109
DTSTAMP:20260419T154923
CREATED:20260210T143733Z
LAST-MODIFIED:20260210T143733Z
UID:10000106-1825632000-1825718399@bradytownship.com
SUMMARY:Planning Committee Meeting 7:00  Supervisor Meeting 7:30
DESCRIPTION:
URL:https://bradytownship.com/event/planning-committee-meeting-700-supervisor-meeting-730/2027-11-08/
END:VEVENT
BEGIN:VEVENT
DTSTART;VALUE=DATE:20271213
DTEND;VALUE=DATE:20271214
DTSTAMP:20260419T154923
CREATED:20260210T143733Z
LAST-MODIFIED:20260210T143733Z
UID:10000107-1828656000-1828742399@bradytownship.com
SUMMARY:Planning Committee Meeting 7:00  Supervisor Meeting 7:30
DESCRIPTION:
URL:https://bradytownship.com/event/planning-committee-meeting-700-supervisor-meeting-730/2027-12-13/
END:VEVENT
BEGIN:VEVENT
DTSTART;VALUE=DATE:20280110
DTEND;VALUE=DATE:20280111
DTSTAMP:20260419T154923
CREATED:20260210T143733Z
LAST-MODIFIED:20260210T143733Z
UID:10000108-1831075200-1831161599@bradytownship.com
SUMMARY:Planning Committee Meeting 7:00  Supervisor Meeting 7:30
DESCRIPTION:
URL:https://bradytownship.com/event/planning-committee-meeting-700-supervisor-meeting-730/2028-01-10/
END:VEVENT
BEGIN:VEVENT
DTSTART;VALUE=DATE:20280214
DTEND;VALUE=DATE:20280215
DTSTAMP:20260419T154923
CREATED:20260210T143733Z
LAST-MODIFIED:20260210T143733Z
UID:10000109-1834099200-1834185599@bradytownship.com
SUMMARY:Planning Committee Meeting 7:00  Supervisor Meeting 7:30
DESCRIPTION:
URL:https://bradytownship.com/event/planning-committee-meeting-700-supervisor-meeting-730/2028-02-14/
END:VEVENT
BEGIN:VEVENT
DTSTART;VALUE=DATE:20280313
DTEND;VALUE=DATE:20280314
DTSTAMP:20260419T154923
CREATED:20260210T143733Z
LAST-MODIFIED:20260210T143733Z
UID:10000110-1836518400-1836604799@bradytownship.com
SUMMARY:Planning Committee Meeting 7:00  Supervisor Meeting 7:30
DESCRIPTION:
URL:https://bradytownship.com/event/planning-committee-meeting-700-supervisor-meeting-730/2028-03-13/
END:VEVENT
BEGIN:VEVENT
DTSTART;VALUE=DATE:20280410
DTEND;VALUE=DATE:20280411
DTSTAMP:20260419T154923
CREATED:20260210T143733Z
LAST-MODIFIED:20260210T143733Z
UID:10000111-1838937600-1839023999@bradytownship.com
SUMMARY:Planning Committee Meeting 7:00  Supervisor Meeting 7:30
DESCRIPTION:
URL:https://bradytownship.com/event/planning-committee-meeting-700-supervisor-meeting-730/2028-04-10/
END:VEVENT
BEGIN:VEVENT
DTSTART;VALUE=DATE:20280508
DTEND;VALUE=DATE:20280509
DTSTAMP:20260419T154923
CREATED:20260210T143733Z
LAST-MODIFIED:20260210T143733Z
UID:10000112-1841356800-1841443199@bradytownship.com
SUMMARY:Planning Committee Meeting 7:00  Supervisor Meeting 7:30
DESCRIPTION:
URL:https://bradytownship.com/event/planning-committee-meeting-700-supervisor-meeting-730/2028-05-08/
END:VEVENT
BEGIN:VEVENT
DTSTART;VALUE=DATE:20280612
DTEND;VALUE=DATE:20280613
DTSTAMP:20260419T154923
CREATED:20260210T143733Z
LAST-MODIFIED:20260210T143733Z
UID:10000113-1844380800-1844467199@bradytownship.com
SUMMARY:Planning Committee Meeting 7:00  Supervisor Meeting 7:30
DESCRIPTION:
URL:https://bradytownship.com/event/planning-committee-meeting-700-supervisor-meeting-730/2028-06-12/
END:VEVENT
BEGIN:VEVENT
DTSTART;VALUE=DATE:20280710
DTEND;VALUE=DATE:20280711
DTSTAMP:20260419T154923
CREATED:20260210T143733Z
LAST-MODIFIED:20260210T143733Z
UID:10000114-1846800000-1846886399@bradytownship.com
SUMMARY:Planning Committee Meeting 7:00  Supervisor Meeting 7:30
DESCRIPTION:
URL:https://bradytownship.com/event/planning-committee-meeting-700-supervisor-meeting-730/2028-07-10/
END:VEVENT
BEGIN:VEVENT
DTSTART;VALUE=DATE:20280814
DTEND;VALUE=DATE:20280815
DTSTAMP:20260419T154923
CREATED:20260210T143733Z
LAST-MODIFIED:20260210T143733Z
UID:10000115-1849824000-1849910399@bradytownship.com
SUMMARY:Planning Committee Meeting 7:00  Supervisor Meeting 7:30
DESCRIPTION:
URL:https://bradytownship.com/event/planning-committee-meeting-700-supervisor-meeting-730/2028-08-14/
END:VEVENT
BEGIN:VEVENT
DTSTART;VALUE=DATE:20280911
DTEND;VALUE=DATE:20280912
DTSTAMP:20260419T154923
CREATED:20260210T143733Z
LAST-MODIFIED:20260210T143733Z
UID:10000116-1852243200-1852329599@bradytownship.com
SUMMARY:Planning Committee Meeting 7:00  Supervisor Meeting 7:30
DESCRIPTION:
URL:https://bradytownship.com/event/planning-committee-meeting-700-supervisor-meeting-730/2028-09-11/
END:VEVENT
BEGIN:VEVENT
DTSTART;VALUE=DATE:20281009
DTEND;VALUE=DATE:20281010
DTSTAMP:20260419T154923
CREATED:20260210T143733Z
LAST-MODIFIED:20260210T143733Z
UID:10000117-1854662400-1854748799@bradytownship.com
SUMMARY:Planning Committee Meeting 7:00  Supervisor Meeting 7:30
DESCRIPTION:
URL:https://bradytownship.com/event/planning-committee-meeting-700-supervisor-meeting-730/2028-10-09/
END:VEVENT
BEGIN:VEVENT
DTSTART;VALUE=DATE:20281113
DTEND;VALUE=DATE:20281114
DTSTAMP:20260419T154923
CREATED:20260210T143733Z
LAST-MODIFIED:20260210T143733Z
UID:10000118-1857686400-1857772799@bradytownship.com
SUMMARY:Planning Committee Meeting 7:00  Supervisor Meeting 7:30
DESCRIPTION:
URL:https://bradytownship.com/event/planning-committee-meeting-700-supervisor-meeting-730/2028-11-13/
END:VEVENT
BEGIN:VEVENT
DTSTART;VALUE=DATE:20281211
DTEND;VALUE=DATE:20281212
DTSTAMP:20260419T154923
CREATED:20260210T143733Z
LAST-MODIFIED:20260210T143733Z
UID:10000119-1860105600-1860191999@bradytownship.com
SUMMARY:Planning Committee Meeting 7:00  Supervisor Meeting 7:30
DESCRIPTION:
URL:https://bradytownship.com/event/planning-committee-meeting-700-supervisor-meeting-730/2028-12-11/
END:VEVENT
BEGIN:VEVENT
DTSTART;VALUE=DATE:20290108
DTEND;VALUE=DATE:20290109
DTSTAMP:20260419T154923
CREATED:20260210T143733Z
LAST-MODIFIED:20260210T143733Z
UID:10000120-1862524800-1862611199@bradytownship.com
SUMMARY:Planning Committee Meeting 7:00  Supervisor Meeting 7:30
DESCRIPTION:
URL:https://bradytownship.com/event/planning-committee-meeting-700-supervisor-meeting-730/2029-01-08/
END:VEVENT
BEGIN:VEVENT
DTSTART;VALUE=DATE:20290212
DTEND;VALUE=DATE:20290213
DTSTAMP:20260419T154923
CREATED:20260210T143733Z
LAST-MODIFIED:20260210T143733Z
UID:10000121-1865548800-1865635199@bradytownship.com
SUMMARY:Planning Committee Meeting 7:00  Supervisor Meeting 7:30
DESCRIPTION:
URL:https://bradytownship.com/event/planning-committee-meeting-700-supervisor-meeting-730/2029-02-12/
END:VEVENT
BEGIN:VEVENT
DTSTART;VALUE=DATE:20290312
DTEND;VALUE=DATE:20290313
DTSTAMP:20260419T154923
CREATED:20260210T143733Z
LAST-MODIFIED:20260210T143733Z
UID:10000122-1867968000-1868054399@bradytownship.com
SUMMARY:Planning Committee Meeting 7:00  Supervisor Meeting 7:30
DESCRIPTION:
URL:https://bradytownship.com/event/planning-committee-meeting-700-supervisor-meeting-730/2029-03-12/
END:VEVENT
BEGIN:VEVENT
DTSTART;VALUE=DATE:20290409
DTEND;VALUE=DATE:20290410
DTSTAMP:20260419T154923
CREATED:20260210T143733Z
LAST-MODIFIED:20260210T143733Z
UID:10000123-1870387200-1870473599@bradytownship.com
SUMMARY:Planning Committee Meeting 7:00  Supervisor Meeting 7:30
DESCRIPTION:
URL:https://bradytownship.com/event/planning-committee-meeting-700-supervisor-meeting-730/2029-04-09/
END:VEVENT
BEGIN:VEVENT
DTSTART;VALUE=DATE:20290514
DTEND;VALUE=DATE:20290515
DTSTAMP:20260419T154923
CREATED:20260210T143733Z
LAST-MODIFIED:20260210T143733Z
UID:10000124-1873411200-1873497599@bradytownship.com
SUMMARY:Planning Committee Meeting 7:00  Supervisor Meeting 7:30
DESCRIPTION:
URL:https://bradytownship.com/event/planning-committee-meeting-700-supervisor-meeting-730/2029-05-14/
END:VEVENT
BEGIN:VEVENT
DTSTART;VALUE=DATE:20290611
DTEND;VALUE=DATE:20290612
DTSTAMP:20260419T154923
CREATED:20260210T143733Z
LAST-MODIFIED:20260210T143733Z
UID:10000125-1875830400-1875916799@bradytownship.com
SUMMARY:Planning Committee Meeting 7:00  Supervisor Meeting 7:30
DESCRIPTION:
URL:https://bradytownship.com/event/planning-committee-meeting-700-supervisor-meeting-730/2029-06-11/
END:VEVENT
BEGIN:VEVENT
DTSTART;VALUE=DATE:20290709
DTEND;VALUE=DATE:20290710
DTSTAMP:20260419T154923
CREATED:20260210T143733Z
LAST-MODIFIED:20260210T143733Z
UID:10000126-1878249600-1878335999@bradytownship.com
SUMMARY:Planning Committee Meeting 7:00  Supervisor Meeting 7:30
DESCRIPTION:
URL:https://bradytownship.com/event/planning-committee-meeting-700-supervisor-meeting-730/2029-07-09/
END:VEVENT
BEGIN:VEVENT
DTSTART;VALUE=DATE:20290813
DTEND;VALUE=DATE:20290814
DTSTAMP:20260419T154923
CREATED:20260210T143733Z
LAST-MODIFIED:20260210T143733Z
UID:10000127-1881273600-1881359999@bradytownship.com
SUMMARY:Planning Committee Meeting 7:00  Supervisor Meeting 7:30
DESCRIPTION:
URL:https://bradytownship.com/event/planning-committee-meeting-700-supervisor-meeting-730/2029-08-13/
END:VEVENT
BEGIN:VEVENT
DTSTART;VALUE=DATE:20290910
DTEND;VALUE=DATE:20290911
DTSTAMP:20260419T154923
CREATED:20260210T143733Z
LAST-MODIFIED:20260210T143733Z
UID:10000128-1883692800-1883779199@bradytownship.com
SUMMARY:Planning Committee Meeting 7:00  Supervisor Meeting 7:30
DESCRIPTION:
URL:https://bradytownship.com/event/planning-committee-meeting-700-supervisor-meeting-730/2029-09-10/
END:VEVENT
END:VCALENDAR