BEGIN:VCALENDAR
VERSION:2.0
PRODID:-//Brady Township - ECPv6.15.20//NONSGML v1.0//EN
CALSCALE:GREGORIAN
METHOD:PUBLISH
X-WR-CALNAME:Brady Township
X-ORIGINAL-URL:https://bradytownship.com
X-WR-CALDESC:Events for Brady Township
REFRESH-INTERVAL;VALUE=DURATION:PT1H
X-Robots-Tag:noindex
X-PUBLISHED-TTL:PT1H
BEGIN:VTIMEZONE
TZID:America/New_York
BEGIN:DAYLIGHT
TZOFFSETFROM:-0500
TZOFFSETTO:-0400
TZNAME:EDT
DTSTART:20280312T070000
END:DAYLIGHT
BEGIN:STANDARD
TZOFFSETFROM:-0400
TZOFFSETTO:-0500
TZNAME:EST
DTSTART:20281105T060000
END:STANDARD
BEGIN:DAYLIGHT
TZOFFSETFROM:-0500
TZOFFSETTO:-0400
TZNAME:EDT
DTSTART:20290311T070000
END:DAYLIGHT
BEGIN:STANDARD
TZOFFSETFROM:-0400
TZOFFSETTO:-0500
TZNAME:EST
DTSTART:20291104T060000
END:STANDARD
BEGIN:DAYLIGHT
TZOFFSETFROM:-0500
TZOFFSETTO:-0400
TZNAME:EDT
DTSTART:20300310T070000
END:DAYLIGHT
BEGIN:STANDARD
TZOFFSETFROM:-0400
TZOFFSETTO:-0500
TZNAME:EST
DTSTART:20301103T060000
END:STANDARD
BEGIN:DAYLIGHT
TZOFFSETFROM:-0500
TZOFFSETTO:-0400
TZNAME:EDT
DTSTART:20310309T070000
END:DAYLIGHT
BEGIN:STANDARD
TZOFFSETFROM:-0400
TZOFFSETTO:-0500
TZNAME:EST
DTSTART:20311102T060000
END:STANDARD
BEGIN:DAYLIGHT
TZOFFSETFROM:-0500
TZOFFSETTO:-0400
TZNAME:EDT
DTSTART:20320314T070000
END:DAYLIGHT
BEGIN:STANDARD
TZOFFSETFROM:-0400
TZOFFSETTO:-0500
TZNAME:EST
DTSTART:20321107T060000
END:STANDARD
END:VTIMEZONE
BEGIN:VEVENT
DTSTART;VALUE=DATE:20290910
DTEND;VALUE=DATE:20290911
DTSTAMP:20260420T010318
CREATED:20260210T143733Z
LAST-MODIFIED:20260210T143733Z
UID:10000128-1883692800-1883779199@bradytownship.com
SUMMARY:Planning Committee Meeting 7:00  Supervisor Meeting 7:30
DESCRIPTION:
URL:https://bradytownship.com/event/planning-committee-meeting-700-supervisor-meeting-730/2029-09-10/
END:VEVENT
BEGIN:VEVENT
DTSTART;VALUE=DATE:20291008
DTEND;VALUE=DATE:20291009
DTSTAMP:20260420T010318
CREATED:20260210T143733Z
LAST-MODIFIED:20260210T143733Z
UID:10000129-1886112000-1886198399@bradytownship.com
SUMMARY:Planning Committee Meeting 7:00  Supervisor Meeting 7:30
DESCRIPTION:
URL:https://bradytownship.com/event/planning-committee-meeting-700-supervisor-meeting-730/2029-10-08/
END:VEVENT
BEGIN:VEVENT
DTSTART;VALUE=DATE:20291112
DTEND;VALUE=DATE:20291113
DTSTAMP:20260420T010318
CREATED:20260210T143733Z
LAST-MODIFIED:20260210T143733Z
UID:10000130-1889136000-1889222399@bradytownship.com
SUMMARY:Planning Committee Meeting 7:00  Supervisor Meeting 7:30
DESCRIPTION:
URL:https://bradytownship.com/event/planning-committee-meeting-700-supervisor-meeting-730/2029-11-12/
END:VEVENT
BEGIN:VEVENT
DTSTART;VALUE=DATE:20291210
DTEND;VALUE=DATE:20291211
DTSTAMP:20260420T010318
CREATED:20260210T143733Z
LAST-MODIFIED:20260210T143733Z
UID:10000131-1891555200-1891641599@bradytownship.com
SUMMARY:Planning Committee Meeting 7:00  Supervisor Meeting 7:30
DESCRIPTION:
URL:https://bradytownship.com/event/planning-committee-meeting-700-supervisor-meeting-730/2029-12-10/
END:VEVENT
BEGIN:VEVENT
DTSTART;VALUE=DATE:20300114
DTEND;VALUE=DATE:20300115
DTSTAMP:20260420T010318
CREATED:20260210T143733Z
LAST-MODIFIED:20260210T143733Z
UID:10000132-1894579200-1894665599@bradytownship.com
SUMMARY:Planning Committee Meeting 7:00  Supervisor Meeting 7:30
DESCRIPTION:
URL:https://bradytownship.com/event/planning-committee-meeting-700-supervisor-meeting-730/2030-01-14/
END:VEVENT
BEGIN:VEVENT
DTSTART;VALUE=DATE:20300211
DTEND;VALUE=DATE:20300212
DTSTAMP:20260420T010318
CREATED:20260210T143733Z
LAST-MODIFIED:20260210T143733Z
UID:10000133-1896998400-1897084799@bradytownship.com
SUMMARY:Planning Committee Meeting 7:00  Supervisor Meeting 7:30
DESCRIPTION:
URL:https://bradytownship.com/event/planning-committee-meeting-700-supervisor-meeting-730/2030-02-11/
END:VEVENT
BEGIN:VEVENT
DTSTART;VALUE=DATE:20300311
DTEND;VALUE=DATE:20300312
DTSTAMP:20260420T010318
CREATED:20260210T143733Z
LAST-MODIFIED:20260210T143733Z
UID:10000134-1899417600-1899503999@bradytownship.com
SUMMARY:Planning Committee Meeting 7:00  Supervisor Meeting 7:30
DESCRIPTION:
URL:https://bradytownship.com/event/planning-committee-meeting-700-supervisor-meeting-730/2030-03-11/
END:VEVENT
BEGIN:VEVENT
DTSTART;VALUE=DATE:20300408
DTEND;VALUE=DATE:20300409
DTSTAMP:20260420T010318
CREATED:20260210T143733Z
LAST-MODIFIED:20260210T143733Z
UID:10000135-1901836800-1901923199@bradytownship.com
SUMMARY:Planning Committee Meeting 7:00  Supervisor Meeting 7:30
DESCRIPTION:
URL:https://bradytownship.com/event/planning-committee-meeting-700-supervisor-meeting-730/2030-04-08/
END:VEVENT
BEGIN:VEVENT
DTSTART;VALUE=DATE:20300513
DTEND;VALUE=DATE:20300514
DTSTAMP:20260420T010318
CREATED:20260210T143733Z
LAST-MODIFIED:20260210T143733Z
UID:10000136-1904860800-1904947199@bradytownship.com
SUMMARY:Planning Committee Meeting 7:00  Supervisor Meeting 7:30
DESCRIPTION:
URL:https://bradytownship.com/event/planning-committee-meeting-700-supervisor-meeting-730/2030-05-13/
END:VEVENT
BEGIN:VEVENT
DTSTART;VALUE=DATE:20300610
DTEND;VALUE=DATE:20300611
DTSTAMP:20260420T010318
CREATED:20260210T143733Z
LAST-MODIFIED:20260210T143733Z
UID:10000137-1907280000-1907366399@bradytownship.com
SUMMARY:Planning Committee Meeting 7:00  Supervisor Meeting 7:30
DESCRIPTION:
URL:https://bradytownship.com/event/planning-committee-meeting-700-supervisor-meeting-730/2030-06-10/
END:VEVENT
BEGIN:VEVENT
DTSTART;VALUE=DATE:20300708
DTEND;VALUE=DATE:20300709
DTSTAMP:20260420T010318
CREATED:20260210T143733Z
LAST-MODIFIED:20260210T143733Z
UID:10000138-1909699200-1909785599@bradytownship.com
SUMMARY:Planning Committee Meeting 7:00  Supervisor Meeting 7:30
DESCRIPTION:
URL:https://bradytownship.com/event/planning-committee-meeting-700-supervisor-meeting-730/2030-07-08/
END:VEVENT
BEGIN:VEVENT
DTSTART;VALUE=DATE:20300812
DTEND;VALUE=DATE:20300813
DTSTAMP:20260420T010318
CREATED:20260210T143733Z
LAST-MODIFIED:20260210T143733Z
UID:10000139-1912723200-1912809599@bradytownship.com
SUMMARY:Planning Committee Meeting 7:00  Supervisor Meeting 7:30
DESCRIPTION:
URL:https://bradytownship.com/event/planning-committee-meeting-700-supervisor-meeting-730/2030-08-12/
END:VEVENT
BEGIN:VEVENT
DTSTART;VALUE=DATE:20300909
DTEND;VALUE=DATE:20300910
DTSTAMP:20260420T010318
CREATED:20260210T143733Z
LAST-MODIFIED:20260210T143733Z
UID:10000140-1915142400-1915228799@bradytownship.com
SUMMARY:Planning Committee Meeting 7:00  Supervisor Meeting 7:30
DESCRIPTION:
URL:https://bradytownship.com/event/planning-committee-meeting-700-supervisor-meeting-730/2030-09-09/
END:VEVENT
BEGIN:VEVENT
DTSTART;VALUE=DATE:20301014
DTEND;VALUE=DATE:20301015
DTSTAMP:20260420T010318
CREATED:20260210T143733Z
LAST-MODIFIED:20260210T143733Z
UID:10000141-1918166400-1918252799@bradytownship.com
SUMMARY:Planning Committee Meeting 7:00  Supervisor Meeting 7:30
DESCRIPTION:
URL:https://bradytownship.com/event/planning-committee-meeting-700-supervisor-meeting-730/2030-10-14/
END:VEVENT
BEGIN:VEVENT
DTSTART;VALUE=DATE:20301111
DTEND;VALUE=DATE:20301112
DTSTAMP:20260420T010318
CREATED:20260210T143733Z
LAST-MODIFIED:20260210T143733Z
UID:10000142-1920585600-1920671999@bradytownship.com
SUMMARY:Planning Committee Meeting 7:00  Supervisor Meeting 7:30
DESCRIPTION:
URL:https://bradytownship.com/event/planning-committee-meeting-700-supervisor-meeting-730/2030-11-11/
END:VEVENT
BEGIN:VEVENT
DTSTART;VALUE=DATE:20301209
DTEND;VALUE=DATE:20301210
DTSTAMP:20260420T010318
CREATED:20260210T143733Z
LAST-MODIFIED:20260210T143733Z
UID:10000143-1923004800-1923091199@bradytownship.com
SUMMARY:Planning Committee Meeting 7:00  Supervisor Meeting 7:30
DESCRIPTION:
URL:https://bradytownship.com/event/planning-committee-meeting-700-supervisor-meeting-730/2030-12-09/
END:VEVENT
BEGIN:VEVENT
DTSTART;VALUE=DATE:20310113
DTEND;VALUE=DATE:20310114
DTSTAMP:20260420T010318
CREATED:20260210T143733Z
LAST-MODIFIED:20260210T143733Z
UID:10000144-1926028800-1926115199@bradytownship.com
SUMMARY:Planning Committee Meeting 7:00  Supervisor Meeting 7:30
DESCRIPTION:
URL:https://bradytownship.com/event/planning-committee-meeting-700-supervisor-meeting-730/2031-01-13/
END:VEVENT
BEGIN:VEVENT
DTSTART;VALUE=DATE:20310210
DTEND;VALUE=DATE:20310211
DTSTAMP:20260420T010318
CREATED:20260210T143733Z
LAST-MODIFIED:20260210T143733Z
UID:10000145-1928448000-1928534399@bradytownship.com
SUMMARY:Planning Committee Meeting 7:00  Supervisor Meeting 7:30
DESCRIPTION:
URL:https://bradytownship.com/event/planning-committee-meeting-700-supervisor-meeting-730/2031-02-10/
END:VEVENT
END:VCALENDAR